BEGIN:VCALENDAR
VERSION:2.0
PRODID:-//aisthetos akademie - ECPv6.15.20//NONSGML v1.0//EN
CALSCALE:GREGORIAN
METHOD:PUBLISH
X-ORIGINAL-URL:https://www.aisthetos-akademie.de
X-WR-CALDESC:Veranstaltungen für aisthetos akademie
REFRESH-INTERVAL;VALUE=DURATION:PT1H
X-Robots-Tag:noindex
X-PUBLISHED-TTL:PT1H
BEGIN:VTIMEZONE
TZID:Europe/Berlin
BEGIN:DAYLIGHT
TZOFFSETFROM:+0100
TZOFFSETTO:+0200
TZNAME:CEST
DTSTART:20240331T010000
END:DAYLIGHT
BEGIN:STANDARD
TZOFFSETFROM:+0200
TZOFFSETTO:+0100
TZNAME:CET
DTSTART:20241027T010000
END:STANDARD
BEGIN:DAYLIGHT
TZOFFSETFROM:+0100
TZOFFSETTO:+0200
TZNAME:CEST
DTSTART:20250330T010000
END:DAYLIGHT
BEGIN:STANDARD
TZOFFSETFROM:+0200
TZOFFSETTO:+0100
TZNAME:CET
DTSTART:20251026T010000
END:STANDARD
BEGIN:DAYLIGHT
TZOFFSETFROM:+0100
TZOFFSETTO:+0200
TZNAME:CEST
DTSTART:20260329T010000
END:DAYLIGHT
BEGIN:STANDARD
TZOFFSETFROM:+0200
TZOFFSETTO:+0100
TZNAME:CET
DTSTART:20261025T010000
END:STANDARD
END:VTIMEZONE
BEGIN:VEVENT
DTSTART;TZID=Europe/Berlin:20250202T140000
DTEND;TZID=Europe/Berlin:20250202T170000
DTSTAMP:20260422T041752
CREATED:20240831T184345Z
LAST-MODIFIED:20240831T184651Z
UID:5304-1738504800-1738515600@www.aisthetos-akademie.de
SUMMARY:Schnupperworkshop Aufbau Theaterpädagogik BuT®
DESCRIPTION:Wir schnuppern rein in biografisches Theater und mehr! \nLernt die neuen und vertiefenden Module kennen. \nZur Anmeldung \nErgänzen Sie bitte Ort und Wunschtermin. Die Teilnehmerzahl ist begrenzt.
URL:https://www.aisthetos-akademie.de/event/schnupperworkshop-aufbau-feb25/
LOCATION:aisthetos akademie Neuwied\, Friedrichstr. 36\, Neuwied\, Rheinland-Pfalz\, 56567\, Germany
CATEGORIES:Workshops
ATTACH;FMTTYPE=image/jpeg:https://www.aisthetos-akademie.de/wp-content/uploads/2021/11/AJahrgang1-2.jpg
ORGANIZER;CN="aisthetos akademie":MAILTO:info@aisthetos-akademie.de
END:VEVENT
END:VCALENDAR