BEGIN:VCALENDAR
VERSION:2.0
PRODID:-//aisthetos akademie - ECPv6.15.20//NONSGML v1.0//EN
CALSCALE:GREGORIAN
METHOD:PUBLISH
X-ORIGINAL-URL:https://www.aisthetos-akademie.de
X-WR-CALDESC:Veranstaltungen für aisthetos akademie
REFRESH-INTERVAL;VALUE=DURATION:PT1H
X-Robots-Tag:noindex
X-PUBLISHED-TTL:PT1H
BEGIN:VTIMEZONE
TZID:Europe/Berlin
BEGIN:DAYLIGHT
TZOFFSETFROM:+0100
TZOFFSETTO:+0200
TZNAME:CEST
DTSTART:20230326T010000
END:DAYLIGHT
BEGIN:STANDARD
TZOFFSETFROM:+0200
TZOFFSETTO:+0100
TZNAME:CET
DTSTART:20231029T010000
END:STANDARD
BEGIN:DAYLIGHT
TZOFFSETFROM:+0100
TZOFFSETTO:+0200
TZNAME:CEST
DTSTART:20240331T010000
END:DAYLIGHT
BEGIN:STANDARD
TZOFFSETFROM:+0200
TZOFFSETTO:+0100
TZNAME:CET
DTSTART:20241027T010000
END:STANDARD
BEGIN:DAYLIGHT
TZOFFSETFROM:+0100
TZOFFSETTO:+0200
TZNAME:CEST
DTSTART:20250330T010000
END:DAYLIGHT
BEGIN:STANDARD
TZOFFSETFROM:+0200
TZOFFSETTO:+0100
TZNAME:CET
DTSTART:20251026T010000
END:STANDARD
END:VTIMEZONE
BEGIN:VEVENT
DTSTART;VALUE=DATE:20241116
DTEND;VALUE=DATE:20241118
DTSTAMP:20260422T101115
CREATED:20240831T190320Z
LAST-MODIFIED:20240831T191104Z
UID:5314-1731715200-1731887999@www.aisthetos-akademie.de
SUMMARY:Add-on Workshop: Rollengestaltung nach Michael Tschechov
DESCRIPTION:Die Schauspielerin und Sprecherin Sigrid Burkholder erwartet euch an zwei Tagen (16./17.11.24) zu einer intensiven Auseinandersetzung mit Michael Tschechov. Lasst euch inspirieren und für die nächste Regiearbeit bereichern! \nDieses Angebot richtet sich an Alumni oder DS-Lehrkräfte. \nDiese Veranstaltung ist als den dienstlichen Interessen dienend anerkannt. \nVA Sigrid Burkholder:            Az.: 24ST007405
URL:https://www.aisthetos-akademie.de/event/add-on-workshop-nov24/
LOCATION:aisthetos akademie Neuwied\, Friedrichstr. 36\, Neuwied\, Rheinland-Pfalz\, 56567\, Germany
CATEGORIES:Add-on Workshops
ATTACH;FMTTYPE=image/jpeg:https://www.aisthetos-akademie.de/wp-content/uploads/2021/04/MenuAkademiekalender.jpg
ORGANIZER;CN="aisthetos akademie":MAILTO:info@aisthetos-akademie.de
END:VEVENT
END:VCALENDAR